BEGIN:VCALENDAR
VERSION:2.0
PRODID:-//Kewaunee County Fair - ECPv6.15.20//NONSGML v1.0//EN
CALSCALE:GREGORIAN
METHOD:PUBLISH
X-WR-CALNAME:Kewaunee County Fair
X-ORIGINAL-URL:https://kewauneecountyfair.com
X-WR-CALDESC:Events for Kewaunee County Fair
REFRESH-INTERVAL;VALUE=DURATION:PT1H
X-Robots-Tag:noindex
X-PUBLISHED-TTL:PT1H
BEGIN:VTIMEZONE
TZID:America/Chicago
BEGIN:DAYLIGHT
TZOFFSETFROM:-0600
TZOFFSETTO:-0500
TZNAME:CDT
DTSTART:20250309T080000
END:DAYLIGHT
BEGIN:STANDARD
TZOFFSETFROM:-0500
TZOFFSETTO:-0600
TZNAME:CST
DTSTART:20251102T070000
END:STANDARD
BEGIN:DAYLIGHT
TZOFFSETFROM:-0600
TZOFFSETTO:-0500
TZNAME:CDT
DTSTART:20260308T080000
END:DAYLIGHT
BEGIN:STANDARD
TZOFFSETFROM:-0500
TZOFFSETTO:-0600
TZNAME:CST
DTSTART:20261101T070000
END:STANDARD
BEGIN:DAYLIGHT
TZOFFSETFROM:-0600
TZOFFSETTO:-0500
TZNAME:CDT
DTSTART:20270314T080000
END:DAYLIGHT
BEGIN:STANDARD
TZOFFSETFROM:-0500
TZOFFSETTO:-0600
TZNAME:CST
DTSTART:20271107T070000
END:STANDARD
END:VTIMEZONE
BEGIN:VEVENT
DTSTART;TZID=America/Chicago:20260711T110000
DTEND;TZID=America/Chicago:20260711T110000
DTSTAMP:20260420T003126
CREATED:20260416T191346Z
LAST-MODIFIED:20260416T201716Z
UID:1425-1783767600-1783767600@kewauneecountyfair.com
SUMMARY:Fairy Tales Animal Show
DESCRIPTION:
URL:https://kewauneecountyfair.com/event/fairy-tales-animal-show/
LOCATION:Kewaunee County Fair\, 625 3rd St\, Luxemburg\, WI\, 54217\, United States
CATEGORIES:Judging & Events
END:VEVENT
END:VCALENDAR